BEGIN:VCALENDAR
VERSION:2.0
PRODID:-//Oui Change - ECPv6.15.20//NONSGML v1.0//EN
CALSCALE:GREGORIAN
METHOD:PUBLISH
X-ORIGINAL-URL:https://www.ouichange.com
X-WR-CALDESC:Évènements pour Oui Change
REFRESH-INTERVAL;VALUE=DURATION:PT1H
X-Robots-Tag:noindex
X-PUBLISHED-TTL:PT1H
BEGIN:VTIMEZONE
TZID:Europe/Paris
BEGIN:DAYLIGHT
TZOFFSETFROM:+0100
TZOFFSETTO:+0200
TZNAME:CEST
DTSTART:20250330T010000
END:DAYLIGHT
BEGIN:STANDARD
TZOFFSETFROM:+0200
TZOFFSETTO:+0100
TZNAME:CET
DTSTART:20251026T010000
END:STANDARD
BEGIN:DAYLIGHT
TZOFFSETFROM:+0100
TZOFFSETTO:+0200
TZNAME:CEST
DTSTART:20260329T010000
END:DAYLIGHT
BEGIN:STANDARD
TZOFFSETFROM:+0200
TZOFFSETTO:+0100
TZNAME:CET
DTSTART:20261025T010000
END:STANDARD
BEGIN:DAYLIGHT
TZOFFSETFROM:+0100
TZOFFSETTO:+0200
TZNAME:CEST
DTSTART:20270328T010000
END:DAYLIGHT
BEGIN:STANDARD
TZOFFSETFROM:+0200
TZOFFSETTO:+0100
TZNAME:CET
DTSTART:20271031T010000
END:STANDARD
END:VTIMEZONE
BEGIN:VEVENT
DTSTART;TZID=Europe/Paris:20260612T123000
DTEND;TZID=Europe/Paris:20260612T133000
DTSTAMP:20260420T114315
CREATED:20250915T070416Z
LAST-MODIFIED:20250915T070416Z
UID:10493-1781267400-1781271000@www.ouichange.com
SUMMARY:Comment reconnaître et limiter les produits ultra-transformés ?
DESCRIPTION:On veut tous se nourrir avec des aliments bons pour la santé et la planète. \nParlons transformation et ultra-transformation des aliments et partageons nos solutions concrètes pour manger les meilleurs produits possibles\, en particulier pour les petits-déjeuners et les goûters de nos enfants ! \nPour obtenir le lien de cette visio\, inscrivez-vous sur: https://forms.gle/T65mZ7FCAZ1qkKur8
URL:https://www.ouichange.com/evenements/comment-reconnaitre-et-limiter-les-produits-ultra-transformes-4/
LOCATION:En ligne
CATEGORIES:Evènement OuiChange
ATTACH;FMTTYPE=image/jpeg:https://www.ouichange.com/wp-content/uploads/2024/10/3.jpg
END:VEVENT
END:VCALENDAR